BEGIN:VCALENDAR
VERSION:2.0
PRODID:-//Katholische Kirchengemeinde Maria Frieden Krefeld//NONSGML kigkonsult.se iCalcreator 2.41.92//
CALSCALE:GREGORIAN
METHOD:PUBLISH
UID:64383438-3164-4934-b232-366134396537
X-WR-CALNAME:iCagenda
X-WR-CALDESC:Event Management Extension for Joomla!
X-WR-RELCALID:3E26604A-50F4-4449-8B3E-E4F4932D05B5
X-WR-TIMEZONE:Europe/Berlin
BEGIN:VTIMEZONE
TZID:Europe/Berlin
TZUNTIL:20270328T010000Z
BEGIN:STANDARD
TZNAME:CET
DTSTART:20241027T030000
TZOFFSETFROM:+0200
TZOFFSETTO:+0100
RDATE:20251026T030000
RDATE:20261025T030000
END:STANDARD
BEGIN:DAYLIGHT
TZNAME:CEST
DTSTART:20250330T020000
TZOFFSETFROM:+0100
TZOFFSETTO:+0200
RDATE:20260329T020000
END:DAYLIGHT
END:VTIMEZONE
BEGIN:VEVENT
UID:33623266-6134-4161-b462-626261323234
DTSTAMP:20260424T094253Z
CATEGORIES:Angebote
CLASS:PUBLIC
DESCRIPTION;ALTREP="CID:<FFFF__=0ABBE548DFE235B58f9e8a93d@coffeebean.com>":
 Herzliche Einladungan alle interessierten Menschen\, die Botschaften der B
 ibel fürunseren heutigen Alltag neu zu entdecken und miteinander insGesprä
 ch zu kommen.
DTSTART:20250805T173000Z
DTEND:20250805T173000Z
GEO:00;0
LOCATION:Clemensplatz 1\, 47807 Krefeld\, Nähzimmer im Clemenshaus
ORGANIZER:
SEQUENCE:1
SUMMARY:Bibel teilen
TRANSP:OPAQUE
URL:https://maria-frieden-krefeld.de/termine/veranstaltungen/190-bibel-teil
 en/2025-08-05-19-30?layout=vcal
END:VEVENT
END:VCALENDAR
