BEGIN:VCALENDAR
VERSION:2.0
PRODID:-//Katholische Kirchengemeinde Maria Frieden Krefeld//NONSGML kigkonsult.se iCalcreator 2.41.92//
CALSCALE:GREGORIAN
METHOD:PUBLISH
UID:64356564-3464-4766-b139-373064353064
X-WR-CALNAME:iCagenda
X-WR-CALDESC:Event Management Extension for Joomla!
X-WR-RELCALID:3E26604A-50F4-4449-8B3E-E4F4932D05B5
X-WR-TIMEZONE:Europe/Berlin
BEGIN:VTIMEZONE
TZID:Europe/Berlin
TZUNTIL:20240331T010000Z
BEGIN:STANDARD
TZNAME:CET
DTSTART:20211031T030000
TZOFFSETFROM:+0200
TZOFFSETTO:+0100
RDATE:20221030T030000
RDATE:20231029T030000
END:STANDARD
BEGIN:DAYLIGHT
TZNAME:CEST
DTSTART:20220327T020000
TZOFFSETFROM:+0100
TZOFFSETTO:+0200
RDATE:20230326T020000
END:DAYLIGHT
END:VTIMEZONE
BEGIN:VEVENT
UID:35323132-3262-4239-a664-336231636264
DTSTAMP:20260424T103856Z
CATEGORIES:Kirchenchor St. Clemens
CLASS:PUBLIC
DESCRIPTION:
DTSTART:20220903T120000Z
DTEND:20220903T120000Z
GEO:00;0
LOCATION:Clemenssaal\, Clemensplatz 1a\, 47807 Krefeld
ORGANIZER;CN=:mailto:ilau@arcor.de
SEQUENCE:1
SUMMARY:Chorprojekt Vivaldi
TRANSP:OPAQUE
URL:https://maria-frieden-krefeld.de/component/icagenda/51-chorprojekt-viva
 ldi-5/2022-09-03-14-00?layout=vcal
END:VEVENT
END:VCALENDAR
