BEGIN:VCALENDAR
VERSION:2.0
PRODID:-//Katholische Kirchengemeinde Maria Frieden Krefeld//NONSGML kigkonsult.se iCalcreator 2.41.92//
CALSCALE:GREGORIAN
METHOD:PUBLISH
UID:35353562-3835-4030-b033-643232343939
X-WR-CALNAME:iCagenda
X-WR-CALDESC:Event Management Extension for Joomla!
X-WR-RELCALID:3E26604A-50F4-4449-8B3E-E4F4932D05B5
X-WR-TIMEZONE:Europe/Berlin
BEGIN:VTIMEZONE
TZID:Europe/Berlin
TZUNTIL:20261025T010000Z
BEGIN:STANDARD
TZNAME:CET
DTSTART:20241027T030000
TZOFFSETFROM:+0200
TZOFFSETTO:+0100
RDATE:20251026T030000
END:STANDARD
BEGIN:DAYLIGHT
TZNAME:CEST
DTSTART:20240331T020000
TZOFFSETFROM:+0100
TZOFFSETTO:+0200
RDATE:20250330T020000
RDATE:20260329T020000
END:DAYLIGHT
END:VTIMEZONE
BEGIN:VEVENT
UID:31626438-6362-4034-a539-383661656461
DTSTAMP:20260422T163615Z
CATEGORIES:Kirchenchor St. Clemens
CLASS:PUBLIC
DESCRIPTION:
DTSTART:20241030T181500Z
DTEND:20241030T181500Z
GEO:00;0
LOCATION:Clemenssaal
ORGANIZER:
SEQUENCE:1
SUMMARY:Chorprobe
TRANSP:OPAQUE
URL:https://maria-frieden-krefeld.de/component/icagenda/175-chorprobe-32/20
 24-10-30-19-15
END:VEVENT
END:VCALENDAR
