BEGIN:VCALENDAR
VERSION:2.0
PRODID:-//Katholische Kirchengemeinde Maria Frieden Krefeld//NONSGML kigkonsult.se iCalcreator 2.41.92//
CALSCALE:GREGORIAN
METHOD:PUBLISH
UID:39666538-3135-4363-a131-353764343636
X-WR-CALNAME:iCagenda
X-WR-CALDESC:Event Management Extension for Joomla!
X-WR-RELCALID:3E26604A-50F4-4449-8B3E-E4F4932D05B5
X-WR-TIMEZONE:Europe/Berlin
BEGIN:VTIMEZONE
TZID:Europe/Berlin
TZUNTIL:20231029T010000Z
BEGIN:STANDARD
TZNAME:CET
DTSTART:20211031T030000
TZOFFSETFROM:+0200
TZOFFSETTO:+0100
RDATE:20221030T030000
END:STANDARD
BEGIN:DAYLIGHT
TZNAME:CEST
DTSTART:20210328T020000
TZOFFSETFROM:+0100
TZOFFSETTO:+0200
RDATE:20220327T020000
RDATE:20230326T020000
END:DAYLIGHT
END:VTIMEZONE
BEGIN:VEVENT
UID:62656333-3735-4963-b365-663365663866
DTSTAMP:20260424T134636Z
CATEGORIES:Kirchenchor St. Clemens
CLASS:PUBLIC
DESCRIPTION:
DTSTART:20220319T170000Z
DTEND:20220319T170000Z
GEO:00;0
LOCATION:St. Clemens Kirche\, Clemensplatz 1a\, 47807 Krefeld
ORGANIZER;CN=:mailto:ilau@arcor.de
SEQUENCE:1
SUMMARY:VAM St. Clemens\, 18:00 Uhr
TRANSP:OPAQUE
URL:https://maria-frieden-krefeld.de/component/icagenda/11-vam-st-clemens/2
 022-03-19-18-00?layout=vcal
END:VEVENT
END:VCALENDAR
