BEGIN:VCALENDAR
VERSION:2.0
PRODID:-//Katholische Kirchengemeinde Maria Frieden Krefeld//NONSGML kigkonsult.se iCalcreator 2.41.92//
CALSCALE:GREGORIAN
METHOD:PUBLISH
UID:34653036-6331-4631-b439-396633393930
X-WR-CALNAME:iCagenda
X-WR-CALDESC:Event Management Extension for Joomla!
X-WR-RELCALID:3E26604A-50F4-4449-8B3E-E4F4932D05B5
X-WR-TIMEZONE:Europe/Berlin
BEGIN:VTIMEZONE
TZID:Europe/Berlin
TZUNTIL:20231029T010000Z
BEGIN:STANDARD
TZNAME:CET
DTSTART:20211031T030000
TZOFFSETFROM:+0200
TZOFFSETTO:+0100
RDATE:20221030T030000
END:STANDARD
BEGIN:DAYLIGHT
TZNAME:CEST
DTSTART:20210328T020000
TZOFFSETFROM:+0100
TZOFFSETTO:+0200
RDATE:20220327T020000
RDATE:20230326T020000
END:DAYLIGHT
END:VTIMEZONE
BEGIN:VEVENT
UID:31613037-3237-4333-a561-376361346462
DTSTAMP:20260424T132708Z
CATEGORIES:Kirchenchor St. Clemens
CLASS:PUBLIC
DESCRIPTION:
DTSTART:20220313T083000Z
DTEND:20220313T083000Z
GEO:00;0
LOCATION:St. Bonifatius Kirche\, Bonifatiusstraße 17\, 47807 Krefeld
ORGANIZER;CN=:mailto:ilau@arcor.de
SEQUENCE:1
SUMMARY:Hl. Messe in St. Bonifatius\, 9:30 Uhr
TRANSP:OPAQUE
URL:https://maria-frieden-krefeld.de/component/icagenda/10-hl-messe-in-st-b
 onifatius/2022-03-13-09-30?layout=vcal
END:VEVENT
END:VCALENDAR
